BEGIN:VCALENDAR
VERSION:2.0
PRODID:-//The Shooting Institute - ECPv6.15.20//NONSGML v1.0//EN
CALSCALE:GREGORIAN
METHOD:PUBLISH
X-WR-CALNAME:The Shooting Institute
X-ORIGINAL-URL:https://shootinginstitute.com
X-WR-CALDESC:Events for The Shooting Institute
REFRESH-INTERVAL;VALUE=DURATION:PT1H
X-Robots-Tag:noindex
X-PUBLISHED-TTL:PT1H
BEGIN:VTIMEZONE
TZID:UTC
BEGIN:STANDARD
TZOFFSETFROM:+0000
TZOFFSETTO:+0000
TZNAME:UTC
DTSTART:20250101T000000
END:STANDARD
END:VTIMEZONE
BEGIN:VEVENT
DTSTART;TZID=UTC:20260102T080000
DTEND;TZID=UTC:20260102T170000
DTSTAMP:20260423T235822
CREATED:20251230T190801Z
LAST-MODIFIED:20251230T191236Z
UID:2074-1767340800-1767373200@shootinginstitute.com
SUMMARY:Spring Training starts in April
DESCRIPTION:SPRING TRAINING STARTS IN APRIL…
URL:https://shootinginstitute.com/event/spring-training-starts-in-april/
LOCATION:The Shooting Institute Range\, Trafalgar\, IN\, 46181\, United States
ORGANIZER;CN="Bud Lich":MAILTO:blich@ori.net
END:VEVENT
BEGIN:VEVENT
DTSTART;TZID=UTC:20260102T080000
DTEND;TZID=UTC:20260102T170000
DTSTAMP:20260423T235822
CREATED:20251230T192230Z
LAST-MODIFIED:20251230T192351Z
UID:2079-1767340800-1767373200@shootinginstitute.com
SUMMARY:SPRING TRAINING STARTS APRIL CALL FOR COURSES 317-507-4396 OR 317-412-0855
DESCRIPTION:SPRING TRAINING STARTS APRIL…
URL:https://shootinginstitute.com/event/spring-training-starts-april-call-for-courses-317-507-4396-or-317-412-0855/
LOCATION:The Shooting Institute Range\, Trafalgar\, IN\, 46181\, United States
ORGANIZER;CN="Bud Lich":MAILTO:blich@ori.net
END:VEVENT
BEGIN:VEVENT
DTSTART;VALUE=DATE:20260212
DTEND;VALUE=DATE:20260213
DTSTAMP:20260423T235822
CREATED:20260201T175248Z
LAST-MODIFIED:20260201T175423Z
UID:2083-1770854400-1770940799@shootinginstitute.com
SUMMARY:Training will resume in April ..
DESCRIPTION:Training will resume in April.
URL:https://shootinginstitute.com/event/training-will-resume-in-april/
LOCATION:The Shooting Institute Range\, Trafalgar\, IN\, 46181\, United States
ORGANIZER;CN="Bud Lich":MAILTO:blich@ori.net
END:VEVENT
BEGIN:VEVENT
DTSTART;TZID=UTC:20260425T080000
DTEND;TZID=UTC:20260425T170000
DTSTAMP:20260423T235822
CREATED:20260202T165134Z
LAST-MODIFIED:20260202T165134Z
UID:2090-1777104000-1777136400@shootinginstitute.com
SUMMARY:Private Church security
DESCRIPTION:Private class
URL:https://shootinginstitute.com/event/private-church-security/
LOCATION:The Shooting Institute Range\, Trafalgar\, IN\, 46181\, United States
ORGANIZER;CN="Bud Lich":MAILTO:blich@ori.net
END:VEVENT
END:VCALENDAR