BEGIN:VCALENDAR
VERSION:2.0
PRODID:-//The Shooting Institute - ECPv6.15.20//NONSGML v1.0//EN
CALSCALE:GREGORIAN
METHOD:PUBLISH
X-ORIGINAL-URL:https://shootinginstitute.com
X-WR-CALDESC:Events for The Shooting Institute
REFRESH-INTERVAL;VALUE=DURATION:PT1H
X-Robots-Tag:noindex
X-PUBLISHED-TTL:PT1H
BEGIN:VTIMEZONE
TZID:UTC
BEGIN:STANDARD
TZOFFSETFROM:+0000
TZOFFSETTO:+0000
TZNAME:UTC
DTSTART:20240101T000000
END:STANDARD
END:VTIMEZONE
BEGIN:VEVENT
DTSTART;TZID=UTC:20250508T080000
DTEND;TZID=UTC:20250508T170000
DTSTAMP:20260424T100353
CREATED:20250522T165316Z
LAST-MODIFIED:20250522T165316Z
UID:2044-1746691200-1746723600@shootinginstitute.com
SUMMARY:Private class
DESCRIPTION:private class
URL:https://shootinginstitute.com/event/private-class-11/
LOCATION:The Shooting Institute Range\, Trafalgar\, IN\, 46181\, United States
ORGANIZER;CN="Bud Lich":MAILTO:blich@ori.net
END:VEVENT
BEGIN:VEVENT
DTSTART;VALUE=DATE:20250517
DTEND;VALUE=DATE:20250518
DTSTAMP:20260424T100353
CREATED:20250317T183019Z
LAST-MODIFIED:20250317T183019Z
UID:2035-1747440000-1747526399@shootinginstitute.com
SUMMARY:Ladies only basic pistol
DESCRIPTION:See course description on website. Cost $115.00. We have guns if you don’t. We do not charge \nfor using our guns. ammo only. Call to register. 317-507-4396  Bud
URL:https://shootinginstitute.com/event/ladies-only-basic-pistol-4/
LOCATION:The Shooting Institute Range\, Trafalgar\, IN\, 46181\, United States
ORGANIZER;CN="Bud Lich":MAILTO:blich@ori.net
END:VEVENT
BEGIN:VEVENT
DTSTART;TZID=UTC:20250522T080000
DTEND;TZID=UTC:20250522T170000
DTSTAMP:20260424T100353
CREATED:20250522T165208Z
LAST-MODIFIED:20250522T165208Z
UID:2042-1747900800-1747933200@shootinginstitute.com
SUMMARY:AR course Taught by DJ
DESCRIPTION:This is a 2nd level course nit a basic safety course.
URL:https://shootinginstitute.com/event/ar-course-taught-by-dj/
LOCATION:The Shooting Institute Range\, Trafalgar\, IN\, 46181\, United States
ORGANIZER;CN="DJ Nuetzmann":MAILTO:deputyrn@yahoo.com
END:VEVENT
BEGIN:VEVENT
DTSTART;TZID=UTC:20250522T080000
DTEND;TZID=UTC:20250522T170000
DTSTAMP:20260424T100353
CREATED:20250522T165403Z
LAST-MODIFIED:20250522T165403Z
UID:2046-1747900800-1747933200@shootinginstitute.com
SUMMARY:Ladies only
DESCRIPTION:Class needed to be rescheduled.
URL:https://shootinginstitute.com/event/ladies-only/
LOCATION:The Shooting Institute Range\, Trafalgar\, IN\, 46181\, United States
ORGANIZER;CN="Bud Lich":MAILTO:blich@ori.net
END:VEVENT
BEGIN:VEVENT
DTSTART;TZID=UTC:20250607T100000
DTEND;TZID=UTC:20250607T160000
DTSTAMP:20260424T100353
CREATED:20250525T222916Z
LAST-MODIFIED:20250525T222916Z
UID:2051-1749290400-1749312000@shootinginstitute.com
SUMMARY:BASIC PISTOL COURSE
DESCRIPTION:SEE WEBSITE FOR COURSE DESCRIPTION. MUST CALL TO REGISTER 317-507-4396  bUD
URL:https://shootinginstitute.com/event/basic-pistol-course-3/
LOCATION:The Shooting Institute Range\, Trafalgar\, IN\, 46181\, United States
ORGANIZER;CN="Bud Lich":MAILTO:blich@ori.net
END:VEVENT
BEGIN:VEVENT
DTSTART;TZID=UTC:20250621T100000
DTEND;TZID=UTC:20250621T160000
DTSTAMP:20260424T100353
CREATED:20250525T222624Z
LAST-MODIFIED:20250525T222624Z
UID:2048-1750500000-1750521600@shootinginstitute.com
SUMMARY:LADIES ONLY BASIC PISTOL
DESCRIPTION:See website for course description. Cost $115.00 Call to register 317-507-4396
URL:https://shootinginstitute.com/event/ladies-only-basic-pistol-5/
LOCATION:The Shooting Institute Range\, Trafalgar\, IN\, 46181\, United States
ORGANIZER;CN="Bud Lich":MAILTO:blich@ori.net
END:VEVENT
BEGIN:VEVENT
DTSTART;TZID=UTC:20250731T170000
DTEND;TZID=UTC:20250731T203000
DTSTAMP:20260424T100353
CREATED:20250729T005754Z
LAST-MODIFIED:20250729T005754Z
UID:2054-1753981200-1753993800@shootinginstitute.com
SUMMARY:SKILL DRILLS
DESCRIPTION:Skill drills\, fun with relays and advanced gunning techniques. \nMust call or email to  register. \n317-507-4396 blich@ori.net
URL:https://shootinginstitute.com/event/skill-drills-11/
LOCATION:The Shooting Institute Range\, Trafalgar\, IN\, 46181\, United States
ORGANIZER;CN="Bud Lich":MAILTO:blich@ori.net
END:VEVENT
BEGIN:VEVENT
DTSTART;VALUE=DATE:20250807
DTEND;VALUE=DATE:20250808
DTSTAMP:20260424T100353
CREATED:20250810T165546Z
LAST-MODIFIED:20250810T165546Z
UID:2059-1754524800-1754611199@shootinginstitute.com
SUMMARY:PRIVATE CLASS
DESCRIPTION:PRIVATE CLASS
URL:https://shootinginstitute.com/event/private-class-13/
LOCATION:The Shooting Institute Range\, Trafalgar\, IN\, 46181\, United States
ORGANIZER;CN="Bud Lich":MAILTO:blich@ori.net
END:VEVENT
BEGIN:VEVENT
DTSTART;TZID=UTC:20250807T130000
DTEND;TZID=UTC:20250807T190000
DTSTAMP:20260424T100353
CREATED:20250810T165425Z
LAST-MODIFIED:20250810T165425Z
UID:2057-1754571600-1754593200@shootinginstitute.com
SUMMARY:Private class
DESCRIPTION:PRIVATE CLASS
URL:https://shootinginstitute.com/event/private-class-12/
LOCATION:The Shooting Institute Range\, Trafalgar\, IN\, 46181\, United States
ORGANIZER;CN="Bud Lich":MAILTO:blich@ori.net
END:VEVENT
BEGIN:VEVENT
DTSTART;TZID=UTC:20250807T130000
DTEND;TZID=UTC:20250807T190000
DTSTAMP:20260424T100353
CREATED:20250810T170328Z
LAST-MODIFIED:20250810T170328Z
UID:2061-1754571600-1754593200@shootinginstitute.com
SUMMARY:PRIVATE CLASS
DESCRIPTION:THIS IS A PRIVATE CLASS
URL:https://shootinginstitute.com/event/private-class-14/
LOCATION:The Shooting Institute Range\, Trafalgar\, IN\, 46181\, United States
ORGANIZER;CN="Bud Lich":MAILTO:blich@ori.net
END:VEVENT
BEGIN:VEVENT
DTSTART;TZID=UTC:20250812T170000
DTEND;TZID=UTC:20250812T200000
DTSTAMP:20260424T100353
CREATED:20250810T170654Z
LAST-MODIFIED:20250810T170654Z
UID:2065-1755018000-1755028800@shootinginstitute.com
SUMMARY:CHURCH SECURITY PRIVATE COURSE
DESCRIPTION:PRIVATE COURES
URL:https://shootinginstitute.com/event/church-security-private-course/
LOCATION:The Shooting Institute Range\, Trafalgar\, IN\, 46181\, United States
ORGANIZER;CN="Bud Lich":MAILTO:blich@ori.net
END:VEVENT
BEGIN:VEVENT
DTSTART;TZID=UTC:20250822T090000
DTEND;TZID=UTC:20250822T170000
DTSTAMP:20260424T100353
CREATED:20250819T211818Z
LAST-MODIFIED:20250819T211818Z
UID:2068-1755853200-1755882000@shootinginstitute.com
SUMMARY:COMBO COURSE
DESCRIPTION:Combining CC and home invasion. \nCall for info   317-507-4396   Bud
URL:https://shootinginstitute.com/event/combo-course/
LOCATION:The Shooting Institute Range\, Trafalgar\, IN\, 46181\, United States
ORGANIZER;CN="Bud Lich":MAILTO:blich@ori.net
END:VEVENT
BEGIN:VEVENT
DTSTART;TZID=UTC:20251020T080000
DTEND;TZID=UTC:20251020T170000
DTSTAMP:20260424T100353
CREATED:20251020T142222Z
LAST-MODIFIED:20251020T142222Z
UID:2071-1760947200-1760979600@shootinginstitute.com
SUMMARY:NEWS ABOUT THE SHOOTING INSTITUTE
DESCRIPTION:WE HAVE BEEN SHUT DOWN BY A JOHNSON COUNTY ORDINANCE THAT SAY A RANGE CANNOT OPERATED WITHIN 500 FEET FROM A RESIDENCE. \nWE WILL KEEP YOU INFORMED OF ANY CHANGES.. BUD
URL:https://shootinginstitute.com/event/news-about-the-shooting-institute/
LOCATION:The Shooting Institute Range\, Trafalgar\, IN\, 46181\, United States
ORGANIZER;CN="Bud Lich":MAILTO:blich@ori.net
END:VEVENT
BEGIN:VEVENT
DTSTART;TZID=UTC:20260102T080000
DTEND;TZID=UTC:20260102T170000
DTSTAMP:20260424T100353
CREATED:20251230T190801Z
LAST-MODIFIED:20251230T191236Z
UID:2074-1767340800-1767373200@shootinginstitute.com
SUMMARY:Spring Training starts in April
DESCRIPTION:SPRING TRAINING STARTS IN APRIL…
URL:https://shootinginstitute.com/event/spring-training-starts-in-april/
LOCATION:The Shooting Institute Range\, Trafalgar\, IN\, 46181\, United States
ORGANIZER;CN="Bud Lich":MAILTO:blich@ori.net
END:VEVENT
BEGIN:VEVENT
DTSTART;TZID=UTC:20260102T080000
DTEND;TZID=UTC:20260102T170000
DTSTAMP:20260424T100353
CREATED:20251230T192230Z
LAST-MODIFIED:20251230T192351Z
UID:2079-1767340800-1767373200@shootinginstitute.com
SUMMARY:SPRING TRAINING STARTS APRIL CALL FOR COURSES 317-507-4396 OR 317-412-0855
DESCRIPTION:SPRING TRAINING STARTS APRIL…
URL:https://shootinginstitute.com/event/spring-training-starts-april-call-for-courses-317-507-4396-or-317-412-0855/
LOCATION:The Shooting Institute Range\, Trafalgar\, IN\, 46181\, United States
ORGANIZER;CN="Bud Lich":MAILTO:blich@ori.net
END:VEVENT
BEGIN:VEVENT
DTSTART;VALUE=DATE:20260212
DTEND;VALUE=DATE:20260213
DTSTAMP:20260424T100353
CREATED:20260201T175248Z
LAST-MODIFIED:20260201T175423Z
UID:2083-1770854400-1770940799@shootinginstitute.com
SUMMARY:Training will resume in April ..
DESCRIPTION:Training will resume in April.
URL:https://shootinginstitute.com/event/training-will-resume-in-april/
LOCATION:The Shooting Institute Range\, Trafalgar\, IN\, 46181\, United States
ORGANIZER;CN="Bud Lich":MAILTO:blich@ori.net
END:VEVENT
BEGIN:VEVENT
DTSTART;TZID=UTC:20260425T080000
DTEND;TZID=UTC:20260425T170000
DTSTAMP:20260424T100353
CREATED:20260202T165134Z
LAST-MODIFIED:20260202T165134Z
UID:2090-1777104000-1777136400@shootinginstitute.com
SUMMARY:Private Church security
DESCRIPTION:Private class
URL:https://shootinginstitute.com/event/private-church-security/
LOCATION:The Shooting Institute Range\, Trafalgar\, IN\, 46181\, United States
ORGANIZER;CN="Bud Lich":MAILTO:blich@ori.net
END:VEVENT
END:VCALENDAR