BEGIN:VCALENDAR
VERSION:2.0
PRODID:-//The Shooting Institute - ECPv6.15.20//NONSGML v1.0//EN
CALSCALE:GREGORIAN
METHOD:PUBLISH
X-WR-CALNAME:The Shooting Institute
X-ORIGINAL-URL:https://shootinginstitute.com
X-WR-CALDESC:Events for The Shooting Institute
REFRESH-INTERVAL;VALUE=DURATION:PT1H
X-Robots-Tag:noindex
X-PUBLISHED-TTL:PT1H
BEGIN:VTIMEZONE
TZID:UTC
BEGIN:STANDARD
TZOFFSETFROM:+0000
TZOFFSETTO:+0000
TZNAME:UTC
DTSTART:20220101T000000
END:STANDARD
END:VTIMEZONE
BEGIN:VEVENT
DTSTART;TZID=UTC:20240426T100000
DTEND;TZID=UTC:20240426T160000
DTSTAMP:20260423T203922
CREATED:20240410T234900Z
LAST-MODIFIED:20240410T234900Z
UID:1981-1714125600-1714147200@shootinginstitute.com
SUMMARY:BASIC PISTOL
DESCRIPTION:Private class
URL:https://shootinginstitute.com/event/basic-pistol-20/
LOCATION:The Shooting Institute Range\, Trafalgar\, IN\, 46181\, United States
ORGANIZER;CN="Bud Lich":MAILTO:blich@ori.net
END:VEVENT
BEGIN:VEVENT
DTSTART;VALUE=DATE:20240415
DTEND;VALUE=DATE:20240416
DTSTAMP:20260423T203922
CREATED:20240220T153010Z
LAST-MODIFIED:20240220T153010Z
UID:1967-1713139200-1713225599@shootinginstitute.com
SUMMARY:BASIC PISTOL
DESCRIPTION:See course description on website. Cost $115.00\, Starts 10 AM will last 5 to 8 hours depending on students.
URL:https://shootinginstitute.com/event/basic-pistol-18/
LOCATION:The Shooting Institute Range\, Trafalgar\, IN\, 46181\, United States
ORGANIZER;CN="Bud Lich":MAILTO:blich@ori.net
END:VEVENT
BEGIN:VEVENT
DTSTART;TZID=UTC:20240413T100000
DTEND;TZID=UTC:20240413T120000
DTSTAMP:20260423T203922
CREATED:20240309T145754Z
LAST-MODIFIED:20240309T145754Z
UID:1973-1713002400-1713009600@shootinginstitute.com
SUMMARY:Private coaching
DESCRIPTION:This is a private session.
URL:https://shootinginstitute.com/event/private-coaching/
LOCATION:The Shooting Institute Range\, Trafalgar\, IN\, 46181\, United States
ORGANIZER;CN="Bud Lich":MAILTO:blich@ori.net
END:VEVENT
BEGIN:VEVENT
DTSTART;TZID=UTC:20240409T170000
DTEND;TZID=UTC:20240409T200000
DTSTAMP:20260423T203922
CREATED:20240309T151007Z
LAST-MODIFIED:20240309T151007Z
UID:1977-1712682000-1712692800@shootinginstitute.com
SUMMARY:RUN & GUN
DESCRIPTION:Fun exercises \, Relays Cost only $25.00 Must know gun safety. Call to register 317-507-4396  Bud
URL:https://shootinginstitute.com/event/run-gun-2/
LOCATION:The Shooting Institute Range\, Trafalgar\, IN\, 46181\, United States
ORGANIZER;CN="Bud Lich":MAILTO:blich@ori.net
END:VEVENT
BEGIN:VEVENT
DTSTART;VALUE=DATE:20240407
DTEND;VALUE=DATE:20240408
DTSTAMP:20260423T203922
CREATED:20240304T232154Z
LAST-MODIFIED:20240304T232154Z
UID:1970-1712448000-1712534399@shootinginstitute.com
SUMMARY:BASIC PISTOL
DESCRIPTION:See website for course description. Cost $115.00
URL:https://shootinginstitute.com/event/basic-pistol-19/
LOCATION:The Shooting Institute Range\, Trafalgar\, IN\, 46181\, United States
ORGANIZER;CN="Bud Lich":MAILTO:blich@ori.net
END:VEVENT
BEGIN:VEVENT
DTSTART;VALUE=DATE:20231215
DTEND;VALUE=DATE:20231216
DTSTAMP:20260423T203922
CREATED:20231201T191035Z
LAST-MODIFIED:20231201T191035Z
UID:1952-1702598400-1702684799@shootinginstitute.com
SUMMARY:Merry Christmas & Happy New Year!!!!!!!!    SEE YOU IN APRIL FOR SPRING TRAINING.
DESCRIPTION:
URL:https://shootinginstitute.com/event/merry-christmas-happy-new-year-see-you-in-april-for-spring-training/
LOCATION:The Shooting Institute Range\, Trafalgar\, IN\, 46181\, United States
ORGANIZER;CN="Bud Lich":MAILTO:blich@ori.net
END:VEVENT
BEGIN:VEVENT
DTSTART;VALUE=DATE:20231119
DTEND;VALUE=DATE:20231120
DTSTAMP:20260423T203922
CREATED:20231020T180716Z
LAST-MODIFIED:20231020T180716Z
UID:1943-1700352000-1700438399@shootinginstitute.com
SUMMARY:CONCEALED CARRY COURSE
DESCRIPTION:Concealed carry course  Learn firearms & the law\, moving & shooting\, cover & concealment and more. Cost $165.00 150 rounds of ammo. \nCall to register 317-507-4396 Bud
URL:https://shootinginstitute.com/event/concealed-carry-course-6/
LOCATION:The Shooting Institute Range\, Trafalgar\, IN\, 46181\, United States
ORGANIZER;CN="Bud Lich":MAILTO:blich@ori.net
END:VEVENT
BEGIN:VEVENT
DTSTART;TZID=UTC:20231112T133000
DTEND;TZID=UTC:20231112T160000
DTSTAMP:20260423T203922
CREATED:20231021T143602Z
LAST-MODIFIED:20231021T143602Z
UID:1945-1699795800-1699804800@shootinginstitute.com
SUMMARY:SKILL DRILLS
DESCRIPTION:Last skill drills will be Sunday November 12th 1:30 PM to 4:00. New & experienced welcome but you must know gun safety. Cost $25.00\, \nWe do relays\, timed drills and work with advanced concepts. Bring approx 150 rounds\, This is a handgun course. \nMust call to register. 317-507-4396. \nBud
URL:https://shootinginstitute.com/event/skill-drills-6/
LOCATION:The Shooting Institute Range\, Trafalgar\, IN\, 46181\, United States
ORGANIZER;CN="Bud Lich":MAILTO:blich@ori.net
END:VEVENT
BEGIN:VEVENT
DTSTART;TZID=UTC:20231108T100000
DTEND;TZID=UTC:20231108T170000
DTSTAMP:20260423T203922
CREATED:20231030T210738Z
LAST-MODIFIED:20231030T210738Z
UID:1948-1699437600-1699462800@shootinginstitute.com
SUMMARY:BASIC PISTOL
DESCRIPTION:SEE WEBSITE FOR COURSE DESCRIPTION. COST $115.00. CALL OR EMAIL WITH QUESTIONS 317-507-4396
URL:https://shootinginstitute.com/event/basic-pistol-17/
LOCATION:The Shooting Institute Range\, Trafalgar\, IN\, 46181\, United States
ORGANIZER;CN="Bud Lich":MAILTO:blich@ori.net
END:VEVENT
BEGIN:VEVENT
DTSTART;VALUE=DATE:20231104
DTEND;VALUE=DATE:20231105
DTSTAMP:20260423T203922
CREATED:20231020T180410Z
LAST-MODIFIED:20231020T180410Z
UID:1940-1699056000-1699142399@shootinginstitute.com
SUMMARY:AR Course
DESCRIPTION:AR course taught  by Johnson County Sheriff & SWAT team leader DJ Nuetzman; Covers fudamentals\, handling skills\, and more. \nCost $115.00 Starts 8:00 AM November 4th at TSI range. Need 250 rounds of ammo Call to register 317-412-0855 DJ.
URL:https://shootinginstitute.com/event/ar-course/
LOCATION:The Shooting Institute Range\, Trafalgar\, IN\, 46181\, United States
ORGANIZER;CN="DJ Nuetzmann":MAILTO:deputyrn@yahoo.com
END:VEVENT
BEGIN:VEVENT
DTSTART;TZID=UTC:20231015T133000
DTEND;TZID=UTC:20231015T160000
DTSTAMP:20260423T203922
CREATED:20231006T161803Z
LAST-MODIFIED:20231006T161803Z
UID:1937-1697376600-1697385600@shootinginstitute.com
SUMMARY:SKILL DRILLS
DESCRIPTION:SKILL DRILLS COMING UP SUNDAY OCTOBER 15TH 1:30 TO 4:00. COST ONLY $25.00. WE HAVE LOTS OF GUN RUNNING FUN. \nMUST REGISTER TO COME TO EVENT. CALL 317-507-4396 WE DO MOVEMENT DRILLS\, RELAYS AND MUCH MORE. \nWWE HAVE NEW & EXPIERIENCED SHOOTERS & ALL HAVE FUN.
URL:https://shootinginstitute.com/event/skill-drills-5/
LOCATION:The Shooting Institute Range\, Trafalgar\, IN\, 46181\, United States
END:VEVENT
BEGIN:VEVENT
DTSTART;TZID=UTC:20230926T050000
DTEND;TZID=UTC:20230926T200000
DTSTAMP:20260423T203922
CREATED:20230829T171740Z
LAST-MODIFIED:20230829T171740Z
UID:1934-1695704400-1695758400@shootinginstitute.com
SUMMARY:Range day basic pistol
DESCRIPTION:
URL:https://shootinginstitute.com/event/range-day-basic-pistol/
LOCATION:The Shooting Institute Range\, Trafalgar\, IN\, 46181\, United States
ORGANIZER;CN="Bud Lich":MAILTO:blich@ori.net
END:VEVENT
BEGIN:VEVENT
DTSTART;TZID=UTC:20230925T050000
DTEND;TZID=UTC:20230925T200000
DTSTAMP:20260423T203922
CREATED:20230829T171324Z
LAST-MODIFIED:20230829T171324Z
UID:1932-1695618000-1695672000@shootinginstitute.com
SUMMARY:Outdoorsman Basic pistol discount
DESCRIPTION:Sign up at Outdoorsman for a discounted basic pistol
URL:https://shootinginstitute.com/event/outdoorsman-basic-pistol-discount/
LOCATION:The Shooting Institute Range\, Trafalgar\, IN\, 46181\, United States
ORGANIZER;CN="Bud Lich":MAILTO:blich@ori.net
END:VEVENT
BEGIN:VEVENT
DTSTART;TZID=UTC:20230912T113000
DTEND;TZID=UTC:20230912T123000
DTSTAMP:20260423T203922
CREATED:20230810T132433Z
LAST-MODIFIED:20230810T132433Z
UID:1924-1694518200-1694521800@shootinginstitute.com
SUMMARY:AWARENESS SEMINAR
DESCRIPTION:Private awareness course.
URL:https://shootinginstitute.com/event/awareness-seminar/
LOCATION:IN
ORGANIZER;CN="Bud Lich":MAILTO:blich@ori.net
END:VEVENT
BEGIN:VEVENT
DTSTART;TZID=UTC:20230909T080000
DTEND;TZID=UTC:20230909T170000
DTSTAMP:20260423T203922
CREATED:20230810T132710Z
LAST-MODIFIED:20230810T132710Z
UID:1926-1694246400-1694278800@shootinginstitute.com
SUMMARY:PRIVATE COURSE
DESCRIPTION:
URL:https://shootinginstitute.com/event/private-course-3/
LOCATION:The Shooting Institute Range\, Trafalgar\, IN\, 46181\, United States
ORGANIZER;CN="Bud Lich":MAILTO:blich@ori.net
END:VEVENT
BEGIN:VEVENT
DTSTART;TZID=UTC:20230809T090000
DTEND;TZID=UTC:20230809T160000
DTSTAMP:20260423T203922
CREATED:20230703T132617Z
LAST-MODIFIED:20230703T132617Z
UID:1916-1691571600-1691596800@shootinginstitute.com
SUMMARY:CONCEALED CARRY
DESCRIPTION:SEE WEBSITE FOR COURSE DESCRIPTON. COST $165.00. CALL TO REGISTER 317-507-4396. BUD
URL:https://shootinginstitute.com/event/concealed-carry-9/
LOCATION:The Shooting Institute Range\, Trafalgar\, IN\, 46181\, United States
ORGANIZER;CN="Bud Lich":MAILTO:blich@ori.net
END:VEVENT
BEGIN:VEVENT
DTSTART;VALUE=DATE:20230809
DTEND;VALUE=DATE:20230810
DTSTAMP:20260423T203922
CREATED:20230809T210436Z
LAST-MODIFIED:20230702T134835Z
UID:1902-1691539200-1691625599@shootinginstitute.com
SUMMARY:CONCEALED CARRY
DESCRIPTION:SEE WEBSITE FOR COURSE DESCRIPTION.
URL:https://shootinginstitute.com/event/concealed-carry-8/
LOCATION:The Shooting Institute Range\, Trafalgar\, IN\, 46181\, United States
ORGANIZER;CN="Bud Lich":MAILTO:blich@ori.net
END:VEVENT
BEGIN:VEVENT
DTSTART;VALUE=DATE:20230729
DTEND;VALUE=DATE:20230730
DTSTAMP:20260423T203922
CREATED:20230725T150217Z
LAST-MODIFIED:20230725T150217Z
UID:1919-1690588800-1690675199@shootinginstitute.com
SUMMARY:Concealed carry private course
DESCRIPTION:PRIVATE COURSE
URL:https://shootinginstitute.com/event/concealed-carry-private-course/
LOCATION:The Shooting Institute Range\, Trafalgar\, IN\, 46181\, United States
ORGANIZER;CN="Bud Lich":MAILTO:blich@ori.net
END:VEVENT
BEGIN:VEVENT
DTSTART;TZID=UTC:20230725T173000
DTEND;TZID=UTC:20230725T200000
DTSTAMP:20260423T203922
CREATED:20230725T150534Z
LAST-MODIFIED:20230725T150534Z
UID:1921-1690306200-1690315200@shootinginstitute.com
SUMMARY:SKILL DRILLS
DESCRIPTION:MUST KNOW GUN SAFETY TO PARTICIPATE. COST $25.00 CALL TO REGISTER BUD 317-507-4396
URL:https://shootinginstitute.com/event/skill-drills-4/
LOCATION:The Shooting Institute Range\, Trafalgar\, IN\, 46181\, United States
ORGANIZER;CN="Bud Lich":MAILTO:blich@ori.net
END:VEVENT
BEGIN:VEVENT
DTSTART;TZID=UTC:20230718T173000
DTEND;TZID=UTC:20230718T200000
DTSTAMP:20260423T203922
CREATED:20230701T211206Z
LAST-MODIFIED:20230701T211206Z
UID:1911-1689701400-1689710400@shootinginstitute.com
SUMMARY:SKILL DRILLS
DESCRIPTION:CALL TO REGISTER\, MUST KNOW BASIC GUN SAFETY COST $25.00 EACH
URL:https://shootinginstitute.com/event/skill-drills-3/
LOCATION:The Shooting Institute Range\, Trafalgar\, IN\, 46181\, United States
ORGANIZER;CN="Bud Lich":MAILTO:blich@ori.net
END:VEVENT
BEGIN:VEVENT
DTSTART;VALUE=DATE:20230713
DTEND;VALUE=DATE:20230714
DTSTAMP:20260423T203922
CREATED:20230701T211023Z
LAST-MODIFIED:20230701T211023Z
UID:1909-1689206400-1689292799@shootinginstitute.com
SUMMARY:OPEN FOR BASIC OR ADVANCED
DESCRIPTION:RANGE OPEN FOR TRAINING
URL:https://shootinginstitute.com/event/open-for-basic-or-advanced/
LOCATION:The Shooting Institute Range\, Trafalgar\, IN\, 46181\, United States
ORGANIZER;CN="Bud Lich":MAILTO:blich@ori.net
END:VEVENT
BEGIN:VEVENT
DTSTART;VALUE=DATE:20230624
DTEND;VALUE=DATE:20230625
DTSTAMP:20260423T203922
CREATED:20230531T144100Z
LAST-MODIFIED:20230531T144100Z
UID:1895-1687564800-1687651199@shootinginstitute.com
SUMMARY:BASIC PISTOL
DESCRIPTION:SEE WEBSITE FOR COURSE DISCRIPTION. COSY $115.00 GROUP RATES AVAILABLE. CALL TO REGISTER 317-507-4396  BUD
URL:https://shootinginstitute.com/event/basic-pistol-16/
LOCATION:The Shooting Institute Range\, Trafalgar\, IN\, 46181\, United States
ORGANIZER;CN="Bud Lich":MAILTO:blich@ori.net
END:VEVENT
BEGIN:VEVENT
DTSTART;TZID=UTC:20230620T173000
DTEND;TZID=UTC:20230620T200000
DTSTAMP:20260423T203922
CREATED:20230531T144554Z
LAST-MODIFIED:20230531T144554Z
UID:1899-1687282200-1687291200@shootinginstitute.com
SUMMARY:SKILL DRILLS
DESCRIPTION:WE HAD A BLAST RUNNING & GUNNING LAST MONTH COST ONLY $25.00 MUST KNOW GUN SAFETY TO COME TO. CALL TO REGISTER 317-507-4396. BUD
URL:https://shootinginstitute.com/event/skill-drills-2/
LOCATION:The Shooting Institute Range\, Trafalgar\, IN\, 46181\, United States
ORGANIZER;CN="DJ Nuetzmann":MAILTO:deputyrn@yahoo.com
END:VEVENT
BEGIN:VEVENT
DTSTART;TZID=UTC:20230617T090000
DTEND;TZID=UTC:20230617T160000
DTSTAMP:20260423T203922
CREATED:20230531T144230Z
LAST-MODIFIED:20230531T144230Z
UID:1897-1686992400-1687017600@shootinginstitute.com
SUMMARY:ADVANCED COURSE
DESCRIPTION:THIS COURSE WILL BE ANNOUNCED SOON.
URL:https://shootinginstitute.com/event/advanced-course/
LOCATION:The Shooting Institute Range\, Trafalgar\, IN\, 46181\, United States
ORGANIZER;CN="Bud Lich":MAILTO:blich@ori.net
END:VEVENT
BEGIN:VEVENT
DTSTART;TZID=UTC:20230523T053000
DTEND;TZID=UTC:20230523T200000
DTSTAMP:20260423T203922
CREATED:20230427T112338Z
LAST-MODIFIED:20230427T112338Z
UID:1871-1684819800-1684872000@shootinginstitute.com
SUMMARY:Skill Drills
DESCRIPTION:Monthly skill training in the evening. Cost only $25.00  We will work on different skills each class. Call for more info 317-507-4396. Bud or 317-412-0855 DJ
URL:https://shootinginstitute.com/event/skill-drills/
LOCATION:The Shooting Institute Range\, Trafalgar\, IN\, 46181\, United States
ORGANIZER;CN="Bud Lich":MAILTO:blich@ori.net
END:VEVENT
BEGIN:VEVENT
DTSTART;TZID=UTC:20230520T100000
DTEND;TZID=UTC:20230520T160000
DTSTAMP:20260423T203922
CREATED:20230427T112011Z
LAST-MODIFIED:20230427T112011Z
UID:1869-1684576800-1684598400@shootinginstitute.com
SUMMARY:CONCEALED CARRY COURSE
DESCRIPTION:See course description on website. must know gun safety & fundamentals to take this course. Cost $165.00 Call to register 317-507-4396 Bud
URL:https://shootinginstitute.com/event/concealed-carry-course-5/
LOCATION:The Shooting Institute Range\, Trafalgar\, IN\, 46181\, United States
ORGANIZER;CN="Bud Lich":MAILTO:blich@ori.net
END:VEVENT
BEGIN:VEVENT
DTSTART;TZID=UTC:20230513T100000
DTEND;TZID=UTC:20230513T120000
DTSTAMP:20260423T203922
CREATED:20230427T111617Z
LAST-MODIFIED:20230427T111617Z
UID:1867-1683972000-1683979200@shootinginstitute.com
SUMMARY:SELF DEFENSE COURSE
DESCRIPTION:Call for more info. Cost $75.00 317-507-4396 Bud
URL:https://shootinginstitute.com/event/self-defense-course-4/
LOCATION:IN
END:VEVENT
BEGIN:VEVENT
DTSTART;TZID=UTC:20230506T090000
DTEND;TZID=UTC:20230506T140000
DTSTAMP:20260423T203922
CREATED:20230427T111432Z
LAST-MODIFIED:20230427T111432Z
UID:1865-1683363600-1683381600@shootinginstitute.com
SUMMARY:BASIC PISTOL
DESCRIPTION:Look under courses for course description. Cost $115.00 Call to register 317-507-4396
URL:https://shootinginstitute.com/event/basic-pistol-15/
LOCATION:IN
ORGANIZER;CN="Bud Lich":MAILTO:blich@ori.net
END:VEVENT
BEGIN:VEVENT
DTSTART;TZID=UTC:20230429T090000
DTEND;TZID=UTC:20230429T170000
DTSTAMP:20260423T203922
CREATED:20230306T195813Z
LAST-MODIFIED:20230308T125226Z
UID:1853-1682758800-1682787600@shootinginstitute.com
SUMMARY:Advanced concealed carry.
DESCRIPTION:Must be experienced. and gun safe. Cost $100.00 PP See website for course explanation. Call to register 317-507-4396  Bud
URL:https://shootinginstitute.com/event/advanced-concealed-carry/
LOCATION:The Shooting Institute Range\, Trafalgar\, IN\, 46181\, United States
ORGANIZER;CN="Bud Lich":MAILTO:blich@ori.net
END:VEVENT
BEGIN:VEVENT
DTSTART;TZID=UTC:20230423T100000
DTEND;TZID=UTC:20230423T170000
DTSTAMP:20260423T203922
CREATED:20230306T200016Z
LAST-MODIFIED:20230306T200016Z
UID:1855-1682244000-1682269200@shootinginstitute.com
SUMMARY:BASIC PISTOL
DESCRIPTION:See website for course information. Cost $115.00 PP Call to register   Bud 317-507-4396
URL:https://shootinginstitute.com/event/basic-pistol-14/
LOCATION:The Shooting Institute Range\, Trafalgar\, IN\, 46181\, United States
ORGANIZER;CN="Bud Lich":MAILTO:blich@ori.net
END:VEVENT
END:VCALENDAR