BEGIN:VCALENDAR
VERSION:2.0
PRODID:-//The Shooting Institute - ECPv6.15.20//NONSGML v1.0//EN
CALSCALE:GREGORIAN
METHOD:PUBLISH
X-WR-CALNAME:The Shooting Institute
X-ORIGINAL-URL:https://shootinginstitute.com
X-WR-CALDESC:Events for The Shooting Institute
REFRESH-INTERVAL;VALUE=DURATION:PT1H
X-Robots-Tag:noindex
X-PUBLISHED-TTL:PT1H
BEGIN:VTIMEZONE
TZID:UTC
BEGIN:STANDARD
TZOFFSETFROM:+0000
TZOFFSETTO:+0000
TZNAME:UTC
DTSTART:20200101T000000
END:STANDARD
END:VTIMEZONE
BEGIN:VEVENT
DTSTART;TZID=UTC:20220916T170000
DTEND;TZID=UTC:20220916T200000
DTSTAMP:20260425T124610
CREATED:20220427T223533Z
LAST-MODIFIED:20220427T223822Z
UID:1790-1663347600-1663358400@shootinginstitute.com
SUMMARY:PRIVATE CLASS
DESCRIPTION:PRIVATE COURSE SOUTHERN INDIANA
URL:https://shootinginstitute.com/event/private-class-8/
LOCATION:IN
ORGANIZER;CN="Bud Lich":MAILTO:blich@ori.net
END:VEVENT
BEGIN:VEVENT
DTSTART;VALUE=DATE:20220815
DTEND;VALUE=DATE:20220816
DTSTAMP:20260425T124610
CREATED:20220721T114243Z
LAST-MODIFIED:20220721T114243Z
UID:1819-1660521600-1660607999@shootinginstitute.com
SUMMARY:Private class
DESCRIPTION:
URL:https://shootinginstitute.com/event/private-class-9/
LOCATION:The Shooting Institute Range\, Trafalgar\, IN\, 46181\, United States
ORGANIZER;CN="Bud Lich":MAILTO:blich@ori.net
END:VEVENT
BEGIN:VEVENT
DTSTART;VALUE=DATE:20220813
DTEND;VALUE=DATE:20220814
DTSTAMP:20260425T124610
CREATED:20220801T233514Z
LAST-MODIFIED:20220801T233514Z
UID:1826-1660348800-1660435199@shootinginstitute.com
SUMMARY:LADIES ONLY BASIC PISTOL
DESCRIPTION:SEE WEBSITE FOR COURSE DESCRIPTION. COST $115.00
URL:https://shootinginstitute.com/event/ladies-only-basic-pistol-2/
LOCATION:The Shooting Institute Range\, Trafalgar\, IN\, 46181\, United States
ORGANIZER;CN="Bud Lich":MAILTO:blich@ori.net
END:VEVENT
BEGIN:VEVENT
DTSTART;VALUE=DATE:20220806
DTEND;VALUE=DATE:20220807
DTSTAMP:20260425T124610
CREATED:20220721T113906Z
LAST-MODIFIED:20220721T113906Z
UID:1816-1659744000-1659830399@shootinginstitute.com
SUMMARY:Michelles class
DESCRIPTION:Private class
URL:https://shootinginstitute.com/event/michelles-class/
LOCATION:The Shooting Institute Range\, Trafalgar\, IN\, 46181\, United States
ORGANIZER;CN="Bud Lich":MAILTO:blich@ori.net
END:VEVENT
BEGIN:VEVENT
DTSTART;VALUE=DATE:20220801
DTEND;VALUE=DATE:20220802
DTSTAMP:20260425T124610
CREATED:20220801T233210Z
LAST-MODIFIED:20220801T233210Z
UID:1823-1659312000-1659398399@shootinginstitute.com
SUMMARY:CONCEALED CARRY COURSE
DESCRIPTION:
URL:https://shootinginstitute.com/event/concealed-carry-course-3/
LOCATION:The Shooting Institute Range\, Trafalgar\, IN\, 46181\, United States
ORGANIZER;CN="Bud Lich":MAILTO:blich@ori.net
END:VEVENT
BEGIN:VEVENT
DTSTART;TZID=UTC:20220730T090000
DTEND;TZID=UTC:20220730T160000
DTSTAMP:20260425T124610
CREATED:20220709T145610Z
LAST-MODIFIED:20220709T145610Z
UID:1810-1659171600-1659196800@shootinginstitute.com
SUMMARY:BASIC PISTOL
DESCRIPTION:This course covers basic gun safety and ammunition\, shooting fundamentals etc and live fire on the range. \nCost $115.00 you do get a certificate of completion on this course. See website for more course description. \nCall to register 317-507-4396 Bud
URL:https://shootinginstitute.com/event/basic-pistol-10/
LOCATION:The Shooting Institute Range\, Trafalgar\, IN\, 46181\, United States
ORGANIZER;CN="Bud Lich":MAILTO:blich@ori.net
END:VEVENT
BEGIN:VEVENT
DTSTART;TZID=UTC:20220725T180000
DTEND;TZID=UTC:20220725T200000
DTSTAMP:20260425T124610
CREATED:20220619T115856Z
LAST-MODIFIED:20220619T115856Z
UID:1804-1658772000-1658779200@shootinginstitute.com
SUMMARY:SELF DEFENSE COURSE
DESCRIPTION:THIS SELF DEFENSE COURSE IS MAINLEY FOR LADIES TOLEARN METHODS OF ESCAPE FROM HOLDS OR GRABS. & OTHER ATTACKS. YOU WILL LEARN 8  TECHNIQUES AND WE WILL HAVE AN AWARENESS SESSION TO LEARN HOW TO PAY MORE ATTETIION TO YOUR SUROUNDING. THIS COURSE IS $75.00  CALL LISA TO REGISTER  317-771-1605 OT ME FOR QUESTIONS.. 317-507-4396 BUD VENUE PENDING.
URL:https://shootinginstitute.com/event/self-defense-course/
LOCATION:IN
ORGANIZER;CN="Bud Lich":MAILTO:blich@ori.net
END:VEVENT
BEGIN:VEVENT
DTSTART;TZID=UTC:20220723T180000
DTEND;TZID=UTC:20220723T200000
DTSTAMP:20260425T124610
CREATED:20220619T135543Z
LAST-MODIFIED:20220619T135543Z
UID:1806-1658599200-1658606400@shootinginstitute.com
SUMMARY:SELF DEFENSE COURSE
DESCRIPTION:THIS COURSE IS FOR LADIES. YOU WILL LEARN AT LEAST 8 TECHNIQUES TO ESCAPE GRABS OR HOLDS AND OTHER ATTACKS. COST $75.00\, MONEY GOES TO CENTRAL INDIANA POLICE FOUNDATION.  THERE IS ALSO A SECTION ON AWARNESS . LEARN SELF DEFENSE OPTIONS IF YOU ARE ATTACKED. ASK FOR FLYER \nFOR MORE INFO. CALL LISA TO REGISTER 317-771-1605 OR BUD FOR MORE INFORMATUIN. 317-507-4396
URL:https://shootinginstitute.com/event/self-defense-course-2/
LOCATION:IN
END:VEVENT
BEGIN:VEVENT
DTSTART;VALUE=DATE:20220716
DTEND;VALUE=DATE:20220717
DTSTAMP:20260425T124610
CREATED:20220426T114714Z
LAST-MODIFIED:20220626T115240Z
UID:1786-1657929600-1658015999@shootinginstitute.com
SUMMARY:CONCEALED CARRY COURSE
DESCRIPTION:SEE WEBSITE FOR COURSE DESCRIPTION COST $165.00 CALL TO REGISTER 317-507-4396. BUD \nWE WILL START AT 9:00 AM AT OUR TRAFALGAR CLASSROOM & RANGE \nThis course has new combat focus material in it.
URL:https://shootinginstitute.com/event/basic-pistol-8/
LOCATION:IN
END:VEVENT
BEGIN:VEVENT
DTSTART;VALUE=DATE:20220620
DTEND;VALUE=DATE:20220621
DTSTAMP:20260425T124610
CREATED:20220520T124636Z
LAST-MODIFIED:20220520T124636Z
UID:1795-1655683200-1655769599@shootinginstitute.com
SUMMARY:BASIC PISTOL
DESCRIPTION:See website for course description. Cost $165.00
URL:https://shootinginstitute.com/event/basic-pistol-9/
LOCATION:The Shooting Institute Range\, Trafalgar\, IN\, 46181\, United States
ORGANIZER;CN="Bud Lich":MAILTO:blich@ori.net
END:VEVENT
BEGIN:VEVENT
DTSTART;VALUE=DATE:20220611
DTEND;VALUE=DATE:20220612
DTSTAMP:20260425T124610
CREATED:20220601T114505Z
LAST-MODIFIED:20220601T114505Z
UID:1801-1654905600-1654991999@shootinginstitute.com
SUMMARY:NEW CONCEALED CARRY COURSE
DESCRIPTION:This course has been Enhanced to include combat focus info such as using natural body reactions to get a quicker response. \nWe still have firearms & the law and use of cover & concealment also shooting on the move and more  but the range drills \nhave been enhanced also to train you how to address a threat when everything is going crazy. \nCall to register Cost $165.00 \n317-507-4396     Bud
URL:https://shootinginstitute.com/event/new-concealed-carry-course/
LOCATION:IN
ORGANIZER;CN="Bud Lich":MAILTO:blich@ori.net
END:VEVENT
BEGIN:VEVENT
DTSTART;VALUE=DATE:20220611
DTEND;VALUE=DATE:20220612
DTSTAMP:20260425T124610
CREATED:20220525T161605Z
LAST-MODIFIED:20220525T161605Z
UID:1798-1654905600-1654991999@shootinginstitute.com
SUMMARY:CONCEALED CARRY COURSE
DESCRIPTION:See website course description. Cost $165.00 Must have basic gun safety skills to take this course. Any questions or to register call Bud 317-507-4396
URL:https://shootinginstitute.com/event/concealed-carry-course-2/
LOCATION:IN
ORGANIZER;CN="Bud Lich":MAILTO:blich@ori.net
END:VEVENT
BEGIN:VEVENT
DTSTART;TZID=UTC:20220610T170000
DTEND;TZID=UTC:20220610T200000
DTSTAMP:20260425T124610
CREATED:20220426T114336Z
LAST-MODIFIED:20220426T114336Z
UID:1784-1654880400-1654891200@shootinginstitute.com
SUMMARY:CHURCH SECURITY
DESCRIPTION:SEE WEBSITE FOR COURSE DESCRIPTION. COST $50.00. CALL TO REGISTER BUD 317-507-4396 OR DJ 317-412-0855.
URL:https://shootinginstitute.com/event/church-security/
LOCATION:IN
ORGANIZER;CN="Bud Lich":MAILTO:blich@ori.net
END:VEVENT
BEGIN:VEVENT
DTSTART;VALUE=DATE:20220521
DTEND;VALUE=DATE:20220522
DTSTAMP:20260425T124610
CREATED:20220427T222848Z
LAST-MODIFIED:20220427T222848Z
UID:1788-1653091200-1653177599@shootinginstitute.com
SUMMARY:CONCEALED CARRY COURSE
DESCRIPTION:See website for full course description. Must know gun safety & fundamentals to take this course. Cal me if you want in but don’t have that info \nCost $165.00 call to register 317-507-4396   Bud   Start time 9:00 AM Aprox. 2 1/2 hours classroom 250 rounds of ammo.
URL:https://shootinginstitute.com/event/concealed-carry-course/
LOCATION:The Shooting Institute Range\, Trafalgar\, IN\, 46181\, United States
ORGANIZER;CN="Bud Lich":MAILTO:blich@ori.net
END:VEVENT
BEGIN:VEVENT
DTSTART;VALUE=DATE:20220514
DTEND;VALUE=DATE:20220515
DTSTAMP:20260425T124610
CREATED:20220408T214931Z
LAST-MODIFIED:20220408T214931Z
UID:1781-1652486400-1652572799@shootinginstitute.com
SUMMARY:Basic Pistol
DESCRIPTION:See course description on website. Cost $115.00 \nCall to register 317-507-4396. Bud
URL:https://shootinginstitute.com/event/basic-pistol-7/
LOCATION:IN
END:VEVENT
BEGIN:VEVENT
DTSTART;VALUE=DATE:20220430
DTEND;VALUE=DATE:20220501
DTSTAMP:20260425T124610
CREATED:20211213T165728Z
LAST-MODIFIED:20220225T123839Z
UID:1760-1651276800-1651363199@shootinginstitute.com
SUMMARY:SELF DEFENSE CHARITY COURSE
DESCRIPTION:The Shooting Institute is putting on a self defense charity event  on Saturday April 30th for the Central Indiana Police Foundation. Cost $75.00 and all the money goes to the foundation to help supply Police departments that have needs they may not have the buget to do. Lean how to get out of holds & grabs  and pressure points to disable an attacker. How to develop a defensive mindset\, defense against knife or club attack and more. \n10:00 AM to 12:30 at Mount pleasant Christian church gym 381 N Bluff rd Greenwood 46142. Call Bud to register. 317-507-4396.
URL:https://shootinginstitute.com/event/private-class-5/
LOCATION:IN
ORGANIZER;CN="Bud Lich":MAILTO:blich@ori.net
END:VEVENT
BEGIN:VEVENT
DTSTART;TZID=UTC:20220428T080000
DTEND;TZID=UTC:20220428T170000
DTSTAMP:20260425T124610
CREATED:20220310T154422Z
LAST-MODIFIED:20220310T154422Z
UID:1774-1651132800-1651165200@shootinginstitute.com
SUMMARY:Private class
DESCRIPTION:
URL:https://shootinginstitute.com/event/private-class-7/
LOCATION:IN
END:VEVENT
BEGIN:VEVENT
DTSTART;TZID=UTC:20220423T080000
DTEND;TZID=UTC:20220423T170000
DTSTAMP:20260425T124610
CREATED:20220310T154708Z
LAST-MODIFIED:20220310T154708Z
UID:1776-1650700800-1650733200@shootinginstitute.com
SUMMARY:BASIC PISTOL
DESCRIPTION:See website course description. Cost $115.00
URL:https://shootinginstitute.com/event/basic-pistol-6/
LOCATION:IN
ORGANIZER;CN="Bud Lich":MAILTO:blich@ori.net
END:VEVENT
BEGIN:VEVENT
DTSTART;TZID=UTC:20220421T080000
DTEND;TZID=UTC:20220421T170000
DTSTAMP:20260425T124610
CREATED:20220310T154327Z
LAST-MODIFIED:20220310T154327Z
UID:1772-1650528000-1650560400@shootinginstitute.com
SUMMARY:Private class
DESCRIPTION:
URL:https://shootinginstitute.com/event/private-class-4/
LOCATION:IN
END:VEVENT
BEGIN:VEVENT
DTSTART;VALUE=DATE:20220416
DTEND;VALUE=DATE:20220417
DTSTAMP:20260425T124610
CREATED:20220209T172732Z
LAST-MODIFIED:20220209T172732Z
UID:1766-1650067200-1650153599@shootinginstitute.com
SUMMARY:LADIES ONLY ADVANCED
DESCRIPTION:Ladies only advanced. must have basic safety & fundamentals cost $75.00. \nCall to register 317-507-4396  Bud
URL:https://shootinginstitute.com/event/ladies-only-advanced/
LOCATION:IN
END:VEVENT
BEGIN:VEVENT
DTSTART;VALUE=DATE:20220414
DTEND;VALUE=DATE:20220415
DTSTAMP:20260425T124610
CREATED:20220209T172452Z
LAST-MODIFIED:20220209T172452Z
UID:1764-1649894400-1649980799@shootinginstitute.com
SUMMARY:PRIVATE CLASS
DESCRIPTION:
URL:https://shootinginstitute.com/event/private-class-6/
LOCATION:IN
END:VEVENT
BEGIN:VEVENT
DTSTART;TZID=UTC:20220101T080000
DTEND;TZID=UTC:20220101T170000
DTSTAMP:20260425T124610
CREATED:20211116T132756Z
LAST-MODIFIED:20211116T132756Z
UID:1755-1641024000-1641056400@shootinginstitute.com
SUMMARY:HAPPY NEW YEAR
DESCRIPTION:
URL:https://shootinginstitute.com/event/happy-new-year/
LOCATION:IN
END:VEVENT
BEGIN:VEVENT
DTSTART;TZID=UTC:20211225T080000
DTEND;TZID=UTC:20211225T170000
DTSTAMP:20260425T124610
CREATED:20211116T132652Z
LAST-MODIFIED:20211116T132652Z
UID:1753-1640419200-1640451600@shootinginstitute.com
SUMMARY:MERRY CHRISTMAS
DESCRIPTION:
URL:https://shootinginstitute.com/event/merry-christmas/
LOCATION:IN
END:VEVENT
BEGIN:VEVENT
DTSTART;TZID=UTC:20211120T100000
DTEND;TZID=UTC:20211120T140000
DTSTAMP:20260425T124610
CREATED:20211112T143418Z
LAST-MODIFIED:20211112T143418Z
UID:1742-1637402400-1637416800@shootinginstitute.com
SUMMARY:LADIES ONLY ADVANCED PISTOL
DESCRIPTION:Learn skills such as moving & shooting\, using cover & concealment\, firearms & the law and more. Cost $75.00 call to register. Bud 317-507-4396
URL:https://shootinginstitute.com/event/ladies-only-advanced-pistol-2/
LOCATION:IN
ORGANIZER;CN="Bud Lich":MAILTO:blich@ori.net
END:VEVENT
BEGIN:VEVENT
DTSTART;TZID=UTC:20211113T080000
DTEND;TZID=UTC:20211113T170000
DTSTAMP:20260425T124610
CREATED:20211113T152652Z
LAST-MODIFIED:20211113T152652Z
UID:1747-1636790400-1636822800@shootinginstitute.com
SUMMARY:LADIES ONLY ADVANCED PISTOL
DESCRIPTION:Learn shooting & moving\, cover & concealment\, reloading & malfunction drills\, firearms & the law and more. Cost $75.00. Call to register 317-507-4396. Bud
URL:https://shootinginstitute.com/event/ladies-only-advanced-pistol-4/
LOCATION:The Shooting Institute Range\, Trafalgar\, IN\, 46181\, United States
ORGANIZER;CN="Bud Lich":MAILTO:blich@ori.net
END:VEVENT
BEGIN:VEVENT
DTSTART;TZID=UTC:20211113T080000
DTEND;TZID=UTC:20211113T170000
DTSTAMP:20260425T124610
CREATED:20211113T144513Z
LAST-MODIFIED:20211113T144513Z
UID:1744-1636790400-1636822800@shootinginstitute.com
SUMMARY:LADIES ONLY ADVANCED PISTOL
DESCRIPTION:IF YOU HAVE GUN SAFETY DOWN THIS COURSE IS A NEXT STEP FOR YOU LEARNING RELOAD & MALFUNCTION DRILLS AND USE OF COVER & CONCEALMENT\,  MOVING & SHOOTING\, FIREARMS & THE LAW AND MORE. COST $75.00 CALL TO REGISTER 317-507-4396 BUD
URL:https://shootinginstitute.com/event/ladies-only-advanced-pistol-3/
LOCATION:The Shooting Institute Range\, Trafalgar\, IN\, 46181\, United States
ORGANIZER;CN="Bud Lich":MAILTO:blich@ori.net
END:VEVENT
BEGIN:VEVENT
DTSTART;TZID=UTC:20211019T160000
DTEND;TZID=UTC:20211019T193000
DTSTAMP:20260425T124610
CREATED:20211004T210326Z
LAST-MODIFIED:20211004T210326Z
UID:1735-1634659200-1634671800@shootinginstitute.com
SUMMARY:CONCEALED CARRY
DESCRIPTION:SEE WEBSITE FOR COURSE INFORMATION.
URL:https://shootinginstitute.com/event/concealed-carry-5/
LOCATION:IN
ORGANIZER;CN="Bud Lich":MAILTO:blich@ori.net
END:VEVENT
BEGIN:VEVENT
DTSTART;VALUE=DATE:20211018
DTEND;VALUE=DATE:20211019
DTSTAMP:20260425T124610
CREATED:20210917T144238Z
LAST-MODIFIED:20210917T144238Z
UID:1732-1634515200-1634601599@shootinginstitute.com
SUMMARY:concealed carry
DESCRIPTION:See website for course description\, cost $165.00. Call to register. Bud 317-507-4396.
URL:https://shootinginstitute.com/event/concealed-carry-4/
LOCATION:IN
ORGANIZER;CN="Bud Lich":MAILTO:blich@ori.net
END:VEVENT
BEGIN:VEVENT
DTSTART;TZID=UTC:20210924T180000
DTEND;TZID=UTC:20210924T200000
DTSTAMP:20260425T124610
CREATED:20210901T223656Z
LAST-MODIFIED:20210901T223656Z
UID:1725-1632506400-1632513600@shootinginstitute.com
SUMMARY:US LAW SHIELD LEGAL DEFENSE FOR SELF DEFENSE
DESCRIPTION:This free seminar from 6:00 PM to 8:00 PM will cover Law shield and the benefits of having self defense protection. for questions call Bud 317-507-4396.
URL:https://shootinginstitute.com/event/us-law-shield-legal-defense-for-self-defense/
LOCATION:IN
ORGANIZER;CN="Bud Lich":MAILTO:blich@ori.net
END:VEVENT
BEGIN:VEVENT
DTSTART;VALUE=DATE:20210918
DTEND;VALUE=DATE:20210919
DTSTAMP:20260425T124610
CREATED:20210906T205456Z
LAST-MODIFIED:20210906T205456Z
UID:1729-1631923200-1632009599@shootinginstitute.com
SUMMARY:BASIC PISTOL
DESCRIPTION:See website description of course. Cost $115.00 Call to register. Bud 317-507-4396
URL:https://shootinginstitute.com/event/basic-pistol-5/
LOCATION:IN
ORGANIZER;CN="Bud Lich":MAILTO:blich@ori.net
END:VEVENT
END:VCALENDAR