BEGIN:VCALENDAR
VERSION:2.0
PRODID:-//The Shooting Institute - ECPv6.15.20//NONSGML v1.0//EN
CALSCALE:GREGORIAN
METHOD:PUBLISH
X-WR-CALNAME:The Shooting Institute
X-ORIGINAL-URL:https://shootinginstitute.com
X-WR-CALDESC:Events for The Shooting Institute
REFRESH-INTERVAL;VALUE=DURATION:PT1H
X-Robots-Tag:noindex
X-PUBLISHED-TTL:PT1H
BEGIN:VTIMEZONE
TZID:UTC
BEGIN:STANDARD
TZOFFSETFROM:+0000
TZOFFSETTO:+0000
TZNAME:UTC
DTSTART:20200101T000000
END:STANDARD
END:VTIMEZONE
BEGIN:VTIMEZONE
TZID:America/Indiana/Indianapolis
BEGIN:DAYLIGHT
TZOFFSETFROM:-0500
TZOFFSETTO:-0400
TZNAME:EDT
DTSTART:20200308T070000
END:DAYLIGHT
BEGIN:STANDARD
TZOFFSETFROM:-0400
TZOFFSETTO:-0500
TZNAME:EST
DTSTART:20201101T060000
END:STANDARD
BEGIN:DAYLIGHT
TZOFFSETFROM:-0500
TZOFFSETTO:-0400
TZNAME:EDT
DTSTART:20210314T070000
END:DAYLIGHT
BEGIN:STANDARD
TZOFFSETFROM:-0400
TZOFFSETTO:-0500
TZNAME:EST
DTSTART:20211107T060000
END:STANDARD
BEGIN:DAYLIGHT
TZOFFSETFROM:-0500
TZOFFSETTO:-0400
TZNAME:EDT
DTSTART:20220313T070000
END:DAYLIGHT
BEGIN:STANDARD
TZOFFSETFROM:-0400
TZOFFSETTO:-0500
TZNAME:EST
DTSTART:20221106T060000
END:STANDARD
END:VTIMEZONE
BEGIN:VEVENT
DTSTART;VALUE=DATE:20220430
DTEND;VALUE=DATE:20220501
DTSTAMP:20260425T134835
CREATED:20211213T165728Z
LAST-MODIFIED:20220225T123839Z
UID:1760-1651276800-1651363199@shootinginstitute.com
SUMMARY:SELF DEFENSE CHARITY COURSE
DESCRIPTION:The Shooting Institute is putting on a self defense charity event  on Saturday April 30th for the Central Indiana Police Foundation. Cost $75.00 and all the money goes to the foundation to help supply Police departments that have needs they may not have the buget to do. Lean how to get out of holds & grabs  and pressure points to disable an attacker. How to develop a defensive mindset\, defense against knife or club attack and more. \n10:00 AM to 12:30 at Mount pleasant Christian church gym 381 N Bluff rd Greenwood 46142. Call Bud to register. 317-507-4396.
URL:https://shootinginstitute.com/event/private-class-5/
ORGANIZER;CN="Bud Lich":MAILTO:blich@ori.net
END:VEVENT
BEGIN:VEVENT
DTSTART;TZID=UTC:20220428T080000
DTEND;TZID=UTC:20220428T170000
DTSTAMP:20260425T134835
CREATED:20220310T154422Z
LAST-MODIFIED:20220310T154422Z
UID:1774-1651132800-1651165200@shootinginstitute.com
SUMMARY:Private class
DESCRIPTION:
URL:https://shootinginstitute.com/event/private-class-7/
END:VEVENT
BEGIN:VEVENT
DTSTART;TZID=UTC:20220423T080000
DTEND;TZID=UTC:20220423T170000
DTSTAMP:20260425T134835
CREATED:20220310T154708Z
LAST-MODIFIED:20220310T154708Z
UID:1776-1650700800-1650733200@shootinginstitute.com
SUMMARY:BASIC PISTOL
DESCRIPTION:See website course description. Cost $115.00
URL:https://shootinginstitute.com/event/basic-pistol-6/
ORGANIZER;CN="Bud Lich":MAILTO:blich@ori.net
END:VEVENT
BEGIN:VEVENT
DTSTART;TZID=UTC:20220421T080000
DTEND;TZID=UTC:20220421T170000
DTSTAMP:20260425T134835
CREATED:20220310T154327Z
LAST-MODIFIED:20220310T154327Z
UID:1772-1650528000-1650560400@shootinginstitute.com
SUMMARY:Private class
DESCRIPTION:
URL:https://shootinginstitute.com/event/private-class-4/
END:VEVENT
BEGIN:VEVENT
DTSTART;VALUE=DATE:20220416
DTEND;VALUE=DATE:20220417
DTSTAMP:20260425T134835
CREATED:20220209T172732Z
LAST-MODIFIED:20220209T172732Z
UID:1766-1650067200-1650153599@shootinginstitute.com
SUMMARY:LADIES ONLY ADVANCED
DESCRIPTION:Ladies only advanced. must have basic safety & fundamentals cost $75.00. \nCall to register 317-507-4396  Bud
URL:https://shootinginstitute.com/event/ladies-only-advanced/
END:VEVENT
BEGIN:VEVENT
DTSTART;VALUE=DATE:20220414
DTEND;VALUE=DATE:20220415
DTSTAMP:20260425T134835
CREATED:20220209T172452Z
LAST-MODIFIED:20220209T172452Z
UID:1764-1649894400-1649980799@shootinginstitute.com
SUMMARY:PRIVATE CLASS
DESCRIPTION:
URL:https://shootinginstitute.com/event/private-class-6/
END:VEVENT
BEGIN:VEVENT
DTSTART;TZID=UTC:20220101T080000
DTEND;TZID=UTC:20220101T170000
DTSTAMP:20260425T134835
CREATED:20211116T132756Z
LAST-MODIFIED:20211116T132756Z
UID:1755-1641024000-1641056400@shootinginstitute.com
SUMMARY:HAPPY NEW YEAR
DESCRIPTION:
URL:https://shootinginstitute.com/event/happy-new-year/
END:VEVENT
BEGIN:VEVENT
DTSTART;TZID=UTC:20211225T080000
DTEND;TZID=UTC:20211225T170000
DTSTAMP:20260425T134835
CREATED:20211116T132652Z
LAST-MODIFIED:20211116T132652Z
UID:1753-1640419200-1640451600@shootinginstitute.com
SUMMARY:MERRY CHRISTMAS
DESCRIPTION:
URL:https://shootinginstitute.com/event/merry-christmas/
END:VEVENT
BEGIN:VEVENT
DTSTART;TZID=UTC:20211120T100000
DTEND;TZID=UTC:20211120T140000
DTSTAMP:20260425T134835
CREATED:20211112T143418Z
LAST-MODIFIED:20211112T143418Z
UID:1742-1637402400-1637416800@shootinginstitute.com
SUMMARY:LADIES ONLY ADVANCED PISTOL
DESCRIPTION:Learn skills such as moving & shooting\, using cover & concealment\, firearms & the law and more. Cost $75.00 call to register. Bud 317-507-4396
URL:https://shootinginstitute.com/event/ladies-only-advanced-pistol-2/
ORGANIZER;CN="Bud Lich":MAILTO:blich@ori.net
END:VEVENT
BEGIN:VEVENT
DTSTART;TZID=UTC:20211113T080000
DTEND;TZID=UTC:20211113T170000
DTSTAMP:20260425T134835
CREATED:20211113T152652Z
LAST-MODIFIED:20211113T152652Z
UID:1747-1636790400-1636822800@shootinginstitute.com
SUMMARY:LADIES ONLY ADVANCED PISTOL
DESCRIPTION:Learn shooting & moving\, cover & concealment\, reloading & malfunction drills\, firearms & the law and more. Cost $75.00. Call to register 317-507-4396. Bud
URL:https://shootinginstitute.com/event/ladies-only-advanced-pistol-4/
LOCATION:The Shooting Institute Range\, Trafalgar\, IN\, 46181\, United States
ORGANIZER;CN="Bud Lich":MAILTO:blich@ori.net
END:VEVENT
BEGIN:VEVENT
DTSTART;TZID=UTC:20211113T080000
DTEND;TZID=UTC:20211113T170000
DTSTAMP:20260425T134835
CREATED:20211113T144513Z
LAST-MODIFIED:20211113T144513Z
UID:1744-1636790400-1636822800@shootinginstitute.com
SUMMARY:LADIES ONLY ADVANCED PISTOL
DESCRIPTION:IF YOU HAVE GUN SAFETY DOWN THIS COURSE IS A NEXT STEP FOR YOU LEARNING RELOAD & MALFUNCTION DRILLS AND USE OF COVER & CONCEALMENT\,  MOVING & SHOOTING\, FIREARMS & THE LAW AND MORE. COST $75.00 CALL TO REGISTER 317-507-4396 BUD
URL:https://shootinginstitute.com/event/ladies-only-advanced-pistol-3/
LOCATION:The Shooting Institute Range\, Trafalgar\, IN\, 46181\, United States
ORGANIZER;CN="Bud Lich":MAILTO:blich@ori.net
END:VEVENT
BEGIN:VEVENT
DTSTART;TZID=UTC:20211019T160000
DTEND;TZID=UTC:20211019T193000
DTSTAMP:20260425T134835
CREATED:20211004T210326Z
LAST-MODIFIED:20211004T210326Z
UID:1735-1634659200-1634671800@shootinginstitute.com
SUMMARY:CONCEALED CARRY
DESCRIPTION:SEE WEBSITE FOR COURSE INFORMATION.
URL:https://shootinginstitute.com/event/concealed-carry-5/
ORGANIZER;CN="Bud Lich":MAILTO:blich@ori.net
END:VEVENT
BEGIN:VEVENT
DTSTART;VALUE=DATE:20211018
DTEND;VALUE=DATE:20211019
DTSTAMP:20260425T134835
CREATED:20210917T144238Z
LAST-MODIFIED:20210917T144238Z
UID:1732-1634515200-1634601599@shootinginstitute.com
SUMMARY:concealed carry
DESCRIPTION:See website for course description\, cost $165.00. Call to register. Bud 317-507-4396.
URL:https://shootinginstitute.com/event/concealed-carry-4/
ORGANIZER;CN="Bud Lich":MAILTO:blich@ori.net
END:VEVENT
BEGIN:VEVENT
DTSTART;TZID=UTC:20210924T180000
DTEND;TZID=UTC:20210924T200000
DTSTAMP:20260425T134835
CREATED:20210901T223656Z
LAST-MODIFIED:20210901T223656Z
UID:1725-1632506400-1632513600@shootinginstitute.com
SUMMARY:US LAW SHIELD LEGAL DEFENSE FOR SELF DEFENSE
DESCRIPTION:This free seminar from 6:00 PM to 8:00 PM will cover Law shield and the benefits of having self defense protection. for questions call Bud 317-507-4396.
URL:https://shootinginstitute.com/event/us-law-shield-legal-defense-for-self-defense/
ORGANIZER;CN="Bud Lich":MAILTO:blich@ori.net
END:VEVENT
BEGIN:VEVENT
DTSTART;VALUE=DATE:20210918
DTEND;VALUE=DATE:20210919
DTSTAMP:20260425T134835
CREATED:20210906T205456Z
LAST-MODIFIED:20210906T205456Z
UID:1729-1631923200-1632009599@shootinginstitute.com
SUMMARY:BASIC PISTOL
DESCRIPTION:See website description of course. Cost $115.00 Call to register. Bud 317-507-4396
URL:https://shootinginstitute.com/event/basic-pistol-5/
ORGANIZER;CN="Bud Lich":MAILTO:blich@ori.net
END:VEVENT
BEGIN:VEVENT
DTSTART;VALUE=DATE:20210905
DTEND;VALUE=DATE:20210906
DTSTAMP:20260425T134835
CREATED:20210818T232338Z
LAST-MODIFIED:20210818T232338Z
UID:1721-1630800000-1630886399@shootinginstitute.com
SUMMARY:HOME INVASION
DESCRIPTION:Learn to best survive a home invasion. In this course you will learn how to set up a safe room and the defensive mindset for personal protection. How to make your home safer\, firearms and the law\, confronting an attacker or intruder and dealing with 911 & the police and aftermath of a defensive shooting. Cost $165.00. call to register. 317-507-4396.  Thanks Bud
URL:https://shootinginstitute.com/event/home-invasion-2/
ORGANIZER;CN="Bud Lich":MAILTO:blich@ori.net
END:VEVENT
BEGIN:VEVENT
DTSTART;VALUE=DATE:20210828
DTEND;VALUE=DATE:20210829
DTSTAMP:20260425T134835
CREATED:20210806T142257Z
LAST-MODIFIED:20210806T142257Z
UID:1718-1630108800-1630195199@shootinginstitute.com
SUMMARY:PRIVATE CLASS
DESCRIPTION:
URL:https://shootinginstitute.com/event/private-class-3/
ORGANIZER;CN="Bud Lich":MAILTO:blich@ori.net
END:VEVENT
BEGIN:VEVENT
DTSTART;VALUE=DATE:20210821
DTEND;VALUE=DATE:20210822
DTSTAMP:20260425T134835
CREATED:20210613T115144Z
LAST-MODIFIED:20210613T115144Z
UID:1704-1629504000-1629590399@shootinginstitute.com
SUMMARY:BASIC PISTOL
DESCRIPTION:SEE WEBSITE WWW.SHOOTINGINSTITUTE.COM FOR COURSE DESCRIPTION. COST $115.00
URL:https://shootinginstitute.com/event/basic-pistol-2/
ORGANIZER;CN="Bud Lich":MAILTO:blich@ori.net
END:VEVENT
BEGIN:VEVENT
DTSTART;VALUE=DATE:20210731
DTEND;VALUE=DATE:20210801
DTSTAMP:20260425T134835
CREATED:20210618T141224Z
LAST-MODIFIED:20210618T141224Z
UID:1707-1627689600-1627775999@shootinginstitute.com
SUMMARY:LADIES ONLY BASIC PISTOL
DESCRIPTION:COST $115.00 SEE WEBSITE FOR COURSE DESCRIPTION. CALL TO RGISTER 317-507-4396 DJ 317-412-0855
URL:https://shootinginstitute.com/event/ladies-only-basic-pistol/
END:VEVENT
BEGIN:VEVENT
DTSTART;TZID=UTC:20210715T090000
DTEND;TZID=UTC:20210715T170000
DTSTAMP:20260425T134835
CREATED:20210705T135452Z
LAST-MODIFIED:20210706T154655Z
UID:1715-1626339600-1626368400@shootinginstitute.com
SUMMARY:BASIC PISTOL
DESCRIPTION:See website for course description. Cost $115.00
URL:https://shootinginstitute.com/event/basic-pistol-4/
ORGANIZER;CN="Bud Lich":MAILTO:blich@ori.net
END:VEVENT
BEGIN:VEVENT
DTSTART;VALUE=DATE:20210710
DTEND;VALUE=DATE:20210711
DTSTAMP:20260425T134835
CREATED:20210705T134949Z
LAST-MODIFIED:20210705T134949Z
UID:1713-1625875200-1625961599@shootinginstitute.com
SUMMARY:BASIC PISTOL
DESCRIPTION:See course description on website. Cost $115.00
URL:https://shootinginstitute.com/event/basic-pistol-3/
ORGANIZER;CN="Bud Lich":MAILTO:blich@ori.net
END:VEVENT
BEGIN:VEVENT
DTSTART;VALUE=DATE:20210703
DTEND;VALUE=DATE:20210704
DTSTAMP:20260425T134835
CREATED:20210608T002557Z
LAST-MODIFIED:20210608T002557Z
UID:1695-1625270400-1625356799@shootinginstitute.com
SUMMARY:BASIC PISTOL
DESCRIPTION:Basic  pistol\nLearn  gun safety\, shooting fundamentals such as sight picture\, grip\, stance etc. Receive a certificate of completion.\nThis is a full basic pistol course. Cost $115.00 pp. Call to register 317-507-4396. Bud\n 
URL:https://shootinginstitute.com/event/basic-pistol/
LOCATION:The Shooting Institute Range\, Trafalgar\, IN\, 46181\, United States
ORGANIZER;CN="Bud Lich":MAILTO:blich@ori.net
END:VEVENT
BEGIN:VEVENT
DTSTART;VALUE=DATE:20210626
DTEND;VALUE=DATE:20210627
DTSTAMP:20260425T134835
CREATED:20210618T141609Z
LAST-MODIFIED:20210618T141609Z
UID:1709-1624665600-1624751999@shootinginstitute.com
SUMMARY:PRIVATE CLASS
DESCRIPTION:
URL:https://shootinginstitute.com/event/private-class-2/
END:VEVENT
BEGIN:VEVENT
DTSTART;VALUE=DATE:20210614
DTEND;VALUE=DATE:20210615
DTSTAMP:20260425T134835
CREATED:20210608T173347Z
LAST-MODIFIED:20210608T173347Z
UID:1697-1623628800-1623715199@shootinginstitute.com
SUMMARY:CONCEALED CARRY
DESCRIPTION:See course description in website. Call to register Bud 317-507-4396
URL:https://shootinginstitute.com/event/concealed-carry-3/
ORGANIZER;CN="Bud Lich":MAILTO:blich@ori.net
END:VEVENT
BEGIN:VEVENT
DTSTART;TZID=UTC:20210612T090000
DTEND;TZID=UTC:20210612T160000
DTSTAMP:20260425T134835
CREATED:20210608T173907Z
LAST-MODIFIED:20210608T173907Z
UID:1700-1623488400-1623513600@shootinginstitute.com
SUMMARY:private class
DESCRIPTION:
URL:https://shootinginstitute.com/event/private-class/
END:VEVENT
BEGIN:VEVENT
DTSTART;TZID=America/Indiana/Indianapolis:20210522T090000
DTEND;TZID=America/Indiana/Indianapolis:20210522T160000
DTSTAMP:20260425T134835
CREATED:20210412T225722Z
LAST-MODIFIED:20210412T225722Z
UID:1671-1621674000-1621699200@shootinginstitute.com
SUMMARY:Home Invasion
DESCRIPTION:Learn to make a plan to best survive a home invasion. In this course you will learn awareness and how to set up a safe room. Learn the defensive mindset for using a firearm for personal protection. Learn how to make your home safer. Firearms and the Law. Confronting an attacker or intruder. Dealing with 911 and police and aftermath of a defensive shooting.
URL:https://shootinginstitute.com/event/home-invasion/
LOCATION:The Shooting Institute Range\, Trafalgar\, IN\, 46181\, United States
ORGANIZER;CN="Bud Lich":MAILTO:blich@ori.net
END:VEVENT
BEGIN:VEVENT
DTSTART;TZID=America/Indiana/Indianapolis:20210515T090000
DTEND;TZID=America/Indiana/Indianapolis:20210515T160000
DTSTAMP:20260425T134835
CREATED:20210322T144739Z
LAST-MODIFIED:20210506T231940Z
UID:1663-1621069200-1621094400@shootinginstitute.com
SUMMARY:Basic Pistol Course
DESCRIPTION:The Shooting Institute offers a wide range of handgun courses. Whether you have never held a gun before or if you are an experienced shooter\, we have a course for you. Our Basic Handgun Courses focus on safety and proper handgun techniques. \nThese courses are a starting point for most shooters.  Courses cover gun safety\, loading & unloading\, ammunition\, proper gun storage\, shooting fundamentals such as grip\, sight picture\, stance etc. \nYou will learn how to shoot safely and accurately. Learn how to select a handgun most suited for you & your needs. You will gain the basic knowledge and attitude needed to safely own & operate a handgun.If you do not own a handgun\, we will let you shoot different guns at no cost\, you only pay for the ammo. You will shoot live fire at the end of the course and receive a certificate of completion from The Shooting Institute.
URL:https://shootinginstitute.com/event/basic-pistol-course-2/
LOCATION:The Shooting Institute Range\, Trafalgar\, IN\, 46181\, United States
ATTACH;FMTTYPE=image/jpeg:https://shootinginstitute.com/wp-content/uploads/2018/05/Basic_Pistol.jpg
ORGANIZER;CN="Bud Lich":MAILTO:blich@ori.net
END:VEVENT
BEGIN:VEVENT
DTSTART;TZID=UTC:20210417T090000
DTEND;TZID=UTC:20210417T160000
DTSTAMP:20260425T134835
CREATED:20210306T011647Z
LAST-MODIFIED:20210306T012409Z
UID:1627-1618650000-1618675200@shootinginstitute.com
SUMMARY:Concealed Carry
DESCRIPTION:  \nThis course goal develops basic knowledge\, skills\, attitude\, and proper mindset essential for the use of concealed pistol for self-defense outside the home. \n  \nCOURSE INFORMATION \n\nRequires completion of Basic Training course to enroll\nApproximately 200 Rounds of ammunition for the completion of this course.\nAt course completion\, you will receive a Certificate of Completion\, material on Firearms and the Law\, and more!\n\n  \nSKILLS AND TECHNIQUES COVERED IN THIS CLASS \n\nPresentation from concealment\nMultiple shooting positions\nUtilizing cover and concealment\nLegal aspects of concealed carry for self-defense\nDevelop defensive shooting skills for use outside the home\nResponding to an attack outside the home\nAwareness to avoid confrontations outside the home\nEngaging multiple targets\nStrong hand and weak hand shooting skills\nAftermath of a defensive shooting\nCommunicating with police\, investigators\, media\, etc. after a defensive shooting\n\nContact Bud or DJ to register.
URL:https://shootinginstitute.com/event/concealed-carry/
LOCATION:The Shooting Institute Range\, Trafalgar\, IN\, 46181\, United States
ATTACH;FMTTYPE=image/jpeg:https://shootinginstitute.com/wp-content/uploads/2021/03/Shooter-Bud-002.jpg
ORGANIZER;CN="Bud Lich":MAILTO:blich@ori.net
END:VEVENT
BEGIN:VEVENT
DTSTART;TZID=America/Indiana/Indianapolis:20210416T090000
DTEND;TZID=America/Indiana/Indianapolis:20210416T160000
DTSTAMP:20260425T134835
CREATED:20210412T224856Z
LAST-MODIFIED:20210412T224856Z
UID:1669-1618563600-1618588800@shootinginstitute.com
SUMMARY:Concealed carry
DESCRIPTION:
URL:https://shootinginstitute.com/event/concealed-carry-2/
LOCATION:The Shooting Institute Range\, Trafalgar\, IN\, 46181\, United States
ATTACH;FMTTYPE=image/jpeg:https://shootinginstitute.com/wp-content/uploads/2020/11/Bud3.jpg
ORGANIZER;CN="Bud Lich":MAILTO:blich@ori.net
END:VEVENT
BEGIN:VEVENT
DTSTART;TZID=America/Indiana/Indianapolis:20210410T090000
DTEND;TZID=America/Indiana/Indianapolis:20210410T160000
DTSTAMP:20260425T134835
CREATED:20210306T004658Z
LAST-MODIFIED:20210306T010340Z
UID:1612-1618045200-1618070400@shootinginstitute.com
SUMMARY:Basic Pistol Course
DESCRIPTION:The Shooting Institute offers a wide range of handgun courses. Whether you have never held a gun before or if you are an experienced shooter\, we have a course for you. Our Basic Handgun Courses focus on safety and proper handgun techniques. \nThese courses are a starting point for most shooters.  Courses cover gun safety\, loading & unloading\, ammunition\, proper gun storage\, shooting fundamentals such as grip\, sight picture\, stance etc. \nYou will learn how to shoot safely and accurately. Learn how to select a handgun most suited for you & your needs. You will gain the basic knowledge and attitude needed to safely own & operate a handgun.If you do not own a handgun\, we will let you shoot different guns at no cost\, you only pay for the ammo. You will shoot live fire at the end of the course and receive a certificate of completion from The Shooting Institute.
URL:https://shootinginstitute.com/event/basic-pistol-course/
LOCATION:The Shooting Institute Range\, Trafalgar\, IN\, 46181\, United States
ATTACH;FMTTYPE=image/jpeg:https://shootinginstitute.com/wp-content/uploads/2018/05/Basic_Pistol.jpg
ORGANIZER;CN="Bud Lich":MAILTO:blich@ori.net
END:VEVENT
END:VCALENDAR