BEGIN:VCALENDAR
VERSION:2.0
PRODID:-//The Shooting Institute - ECPv6.15.20//NONSGML v1.0//EN
CALSCALE:GREGORIAN
METHOD:PUBLISH
X-WR-CALNAME:The Shooting Institute
X-ORIGINAL-URL:https://shootinginstitute.com
X-WR-CALDESC:Events for The Shooting Institute
REFRESH-INTERVAL;VALUE=DURATION:PT1H
X-Robots-Tag:noindex
X-PUBLISHED-TTL:PT1H
BEGIN:VTIMEZONE
TZID:UTC
BEGIN:STANDARD
TZOFFSETFROM:+0000
TZOFFSETTO:+0000
TZNAME:UTC
DTSTART:20230101T000000
END:STANDARD
END:VTIMEZONE
BEGIN:VEVENT
DTSTART;TZID=UTC:20241003T170000
DTEND;TZID=UTC:20241003T200000
DTSTAMP:20260424T185534
CREATED:20240803T114107Z
LAST-MODIFIED:20240803T114107Z
UID:2006-1727974800-1727985600@shootinginstitute.com
SUMMARY:OUTDOORSMAN BASIC PISTOL
DESCRIPTION:BASIC PISTOL FOR OUTDOORSMANS SPORT SHOP. 50% OFF COST OF $115.00 ONLY $60.00. \nMUST CALL TO REGISTER. 317-507-4396 BUD  CLASSROOM ON 10/3   5 TO 8pm AND RANGE \nDAY 10\4   5 TO 8pm.
URL:https://shootinginstitute.com/event/outdoorsman-basic-pistol/
LOCATION:The Shooting Institute Range\, Trafalgar\, IN\, 46181\, United States
ORGANIZER;CN="Bud Lich":MAILTO:blich@ori.net
END:VEVENT
BEGIN:VEVENT
DTSTART;TZID=UTC:20241004T170000
DTEND;TZID=UTC:20241004T200000
DTSTAMP:20260424T185534
CREATED:20240803T114525Z
LAST-MODIFIED:20240803T114525Z
UID:2008-1728061200-1728072000@shootinginstitute.com
SUMMARY:OUTDOORSMAN BASIC PISTOL
DESCRIPTION:RANGE DAY FOR OUTDOORSMAN SHOP. CLASSROOM 10/3  5 TO 8 PM COST $60.00 \nMUST CALL TO REGISTER 317-507-4396  BUD
URL:https://shootinginstitute.com/event/outdoorsman-basic-pistol-2/
LOCATION:The Shooting Institute Range\, Trafalgar\, IN\, 46181\, United States
ORGANIZER;CN="Bud Lich":MAILTO:blich@ori.net
END:VEVENT
BEGIN:VEVENT
DTSTART;TZID=UTC:20241012T080000
DTEND;TZID=UTC:20241012T170000
DTSTAMP:20260424T185534
CREATED:20240803T115759Z
LAST-MODIFIED:20240803T115759Z
UID:2012-1728720000-1728752400@shootinginstitute.com
SUMMARY:AR COURSE INSTRUCTED BY DJ NUETZMANN SWAT TEAM LEADER
DESCRIPTION:LEVEL 2 AR COURSE WITH GUN SAFETY\, FUNDAMENTALS\, SPEED & ACCURACY DRILLS\, MALFUNCTION & RELOAD DRILLS\, \nALSO SLING WORK\, MULTIPLE ASSAILANTS\, AND MORE. CALL TO REGISTER 317-507-4396  BUD
URL:https://shootinginstitute.com/event/ar-course-instructed-by-dj-nuetzmann-swat-team-leader/
LOCATION:IN
ORGANIZER;CN="Bud Lich":MAILTO:blich@ori.net
END:VEVENT
BEGIN:VEVENT
DTSTART;TZID=UTC:20241026T100000
DTEND;TZID=UTC:20241026T160000
DTSTAMP:20260424T185534
CREATED:20240803T115114Z
LAST-MODIFIED:20240803T115157Z
UID:2010-1729936800-1729958400@shootinginstitute.com
SUMMARY:FUNDRAISER FOR MICHELLE DAVIS STATE REP.
DESCRIPTION:PRIVATE CLASS.
URL:https://shootinginstitute.com/event/fundraiser-for-michelle-davis-state-rep/
LOCATION:The Shooting Institute Range\, Trafalgar\, IN\, 46181\, United States
ORGANIZER;CN="Bud Lich":MAILTO:blich@ori.net
END:VEVENT
END:VCALENDAR