BEGIN:VCALENDAR
VERSION:2.0
PRODID:-//The Shooting Institute - ECPv6.15.20//NONSGML v1.0//EN
CALSCALE:GREGORIAN
METHOD:PUBLISH
X-ORIGINAL-URL:https://shootinginstitute.com
X-WR-CALDESC:Events for The Shooting Institute
REFRESH-INTERVAL;VALUE=DURATION:PT1H
X-Robots-Tag:noindex
X-PUBLISHED-TTL:PT1H
BEGIN:VTIMEZONE
TZID:UTC
BEGIN:STANDARD
TZOFFSETFROM:+0000
TZOFFSETTO:+0000
TZNAME:UTC
DTSTART:20240101T000000
END:STANDARD
END:VTIMEZONE
BEGIN:VEVENT
DTSTART;TZID=UTC:20250607T100000
DTEND;TZID=UTC:20250607T160000
DTSTAMP:20260424T064418
CREATED:20250525T222916Z
LAST-MODIFIED:20250525T222916Z
UID:2051-1749290400-1749312000@shootinginstitute.com
SUMMARY:BASIC PISTOL COURSE
DESCRIPTION:SEE WEBSITE FOR COURSE DESCRIPTION. MUST CALL TO REGISTER 317-507-4396  bUD
URL:https://shootinginstitute.com/event/basic-pistol-course-3/
LOCATION:The Shooting Institute Range\, Trafalgar\, IN\, 46181\, United States
ORGANIZER;CN="Bud Lich":MAILTO:blich@ori.net
END:VEVENT
BEGIN:VEVENT
DTSTART;TZID=UTC:20250621T100000
DTEND;TZID=UTC:20250621T160000
DTSTAMP:20260424T064418
CREATED:20250525T222624Z
LAST-MODIFIED:20250525T222624Z
UID:2048-1750500000-1750521600@shootinginstitute.com
SUMMARY:LADIES ONLY BASIC PISTOL
DESCRIPTION:See website for course description. Cost $115.00 Call to register 317-507-4396
URL:https://shootinginstitute.com/event/ladies-only-basic-pistol-5/
LOCATION:The Shooting Institute Range\, Trafalgar\, IN\, 46181\, United States
ORGANIZER;CN="Bud Lich":MAILTO:blich@ori.net
END:VEVENT
END:VCALENDAR