BEGIN:VCALENDAR
VERSION:2.0
PRODID:-//The Shooting Institute - ECPv6.15.20//NONSGML v1.0//EN
CALSCALE:GREGORIAN
METHOD:PUBLISH
X-ORIGINAL-URL:https://shootinginstitute.com
X-WR-CALDESC:Events for The Shooting Institute
REFRESH-INTERVAL;VALUE=DURATION:PT1H
X-Robots-Tag:noindex
X-PUBLISHED-TTL:PT1H
BEGIN:VTIMEZONE
TZID:UTC
BEGIN:STANDARD
TZOFFSETFROM:+0000
TZOFFSETTO:+0000
TZNAME:UTC
DTSTART:20240101T000000
END:STANDARD
END:VTIMEZONE
BEGIN:VEVENT
DTSTART;TZID=UTC:20251020T080000
DTEND;TZID=UTC:20251020T170000
DTSTAMP:20260423T235638
CREATED:20251020T142222Z
LAST-MODIFIED:20251020T142222Z
UID:2071-1760947200-1760979600@shootinginstitute.com
SUMMARY:NEWS ABOUT THE SHOOTING INSTITUTE
DESCRIPTION:WE HAVE BEEN SHUT DOWN BY A JOHNSON COUNTY ORDINANCE THAT SAY A RANGE CANNOT OPERATED WITHIN 500 FEET FROM A RESIDENCE. \nWE WILL KEEP YOU INFORMED OF ANY CHANGES.. BUD
URL:https://shootinginstitute.com/event/news-about-the-shooting-institute/
LOCATION:The Shooting Institute Range\, Trafalgar\, IN\, 46181\, United States
ORGANIZER;CN="Bud Lich":MAILTO:blich@ori.net
END:VEVENT
END:VCALENDAR